BEGIN:VCALENDAR
VERSION:2.0
PRODID:-//GovRAMP - ECPv6.15.20//NONSGML v1.0//EN
CALSCALE:GREGORIAN
METHOD:PUBLISH
X-ORIGINAL-URL:https://staging.govramp.org
X-WR-CALDESC:Events for GovRAMP
REFRESH-INTERVAL;VALUE=DURATION:PT1H
X-Robots-Tag:noindex
X-PUBLISHED-TTL:PT1H
BEGIN:VTIMEZONE
TZID:America/Indiana/Indianapolis
BEGIN:DAYLIGHT
TZOFFSETFROM:-0500
TZOFFSETTO:-0400
TZNAME:EDT
DTSTART:20240310T070000
END:DAYLIGHT
BEGIN:STANDARD
TZOFFSETFROM:-0400
TZOFFSETTO:-0500
TZNAME:EST
DTSTART:20241103T060000
END:STANDARD
BEGIN:DAYLIGHT
TZOFFSETFROM:-0500
TZOFFSETTO:-0400
TZNAME:EDT
DTSTART:20250309T070000
END:DAYLIGHT
BEGIN:STANDARD
TZOFFSETFROM:-0400
TZOFFSETTO:-0500
TZNAME:EST
DTSTART:20251102T060000
END:STANDARD
BEGIN:DAYLIGHT
TZOFFSETFROM:-0500
TZOFFSETTO:-0400
TZNAME:EDT
DTSTART:20260308T070000
END:DAYLIGHT
BEGIN:STANDARD
TZOFFSETFROM:-0400
TZOFFSETTO:-0500
TZNAME:EST
DTSTART:20261101T060000
END:STANDARD
END:VTIMEZONE
BEGIN:VEVENT
DTSTART;TZID=America/Indiana/Indianapolis:20250310T120000
DTEND;TZID=America/Indiana/Indianapolis:20250310T163000
DTSTAMP:20260422T122650
CREATED:20250124T131337Z
LAST-MODIFIED:20250519T193447Z
UID:14286-1741608000-1741624200@staging.govramp.org
SUMMARY:2025 StateRAMP Cybersecurity Framework Harmonization Symposium
DESCRIPTION:Join top policymakers\, cybersecurity experts\, and industry leaders for a dynamic half-day event focused on addressing one of the most critical challenges in today’s digital landscape: cybersecurity framework harmonization.
URL:https://staging.govramp.org/event/2025-stateramp-cybersecurity-framework-harmonization-symposium/
LOCATION:Ronald Reagan Building\, 1300 Pennsylvania Ave NW\, Washington\, D.C.\, 20004\, United States
ATTACH;FMTTYPE=image/png:https://staging.govramp.org/wp-content/uploads/2025/01/2025-StateRAMP-Cybersecurity-Framework-Harmonization-Symposium-9.png
END:VEVENT
END:VCALENDAR